BEGIN:VCALENDAR
VERSION:2.0
PRODID:icalendar-ruby
CALSCALE:GREGORIAN
METHOD:PUBLISH
BEGIN:VEVENT
DTSTAMP:20260423T123507Z
UID:11-457889@redarrowministries.org
DTSTART:20261101T213000Z
DTEND:20261101T223000Z
CLASS:PUBLIC
CREATED:20260423T081511
DESCRIPTION:The RedArrow Youth Band practices most weeks from 5:00-6:30.  
 MS &amp\; HS youth are partnered with an adult mentor to grow in vocals or
  an instrument.  The band leads worship at RedArrow Ministries and at oth
 er events within our community.\nQuestions?  Contact Hannah DeVall
LAST-MODIFIED:20260423T081511
LOCATION:31133 Red Arrow Hwy\, Paw Paw\, MI  49079
SUMMARY:RedArrow Youth Band
URL;VALUE=URI:https://redarrowministries.org/events/redarrow-youth-band/202
 6-11-01
ATTACH;FILENAME=RedArrow-Youth-Band-event-image.jpg;FMTTYPE=image/jpeg:http
 s://dq5pwpg1q8ru0.cloudfront.net/2024/07/06/01/19/51/fbc9857b-675d-4e39-81
 21-fdf8fc07f36f/RedArrow-Youth-Band-event-image.jpg
END:VEVENT
END:VCALENDAR
